{"text_format":"1","workbook":"xlsx","n_sheets":11,"sheets":["第17号様式　分担金申請書","第18号様式　申請事業総括表","【参考】第18号様式確認シート","第19号様式　実施計画書","第20号様式　収支予算書（事業別）","第20号様式【記入例】","第23号様式　【特別】分担金申請書 ","第24様式　【特別】総括表","第25号様式　実施計画書","第26号様式　【特別】収支予算書（事業別）","第26号様式【記入例】"],"not_rendered":{"charts":0,"images":0,"macros":1,"external_links":0,"defined_names":12,"comments":7,"pivot_tables":0},"unopened":[],"bounds":{"document_bytes":16777216,"sheet_cells":100000,"rows_first":2000,"rows_last":500,"rows_between":2000,"halvings":0,"cell_chars":16384,"cell_head_chars":4096},"cells_cut":0,"cells_raw":0,"read":"whole","date_system":"1900"}

{"sheet":"第17号様式　分担金申請書","index":0,"n_rows":52,"n_cols":8,"rows_kept":52,"cut":false,"hidden":false,"merged":[[49,2,51,2],[49,4,49,6],[50,4,50,6],[51,4,51,6],[42,1,42,2],[45,1,45,2],[45,3,45,6],[42,3,42,6],[47,1,47,6],[44,1,44,2],[44,3,44,6],[43,1,43,2],[43,3,43,6],[46,1,46,2],[46,3,46,6],[50,1,51,1],[3,3,3,4],[3,5,3,7],[40,0,40,7],[41,1,41,2],[41,3,41,6],[12,5,12,7],[21,0,22,7],[25,0,25,7],[28,3,28,5],[34,0,34,7],[38,0,38,7]]}
["第17号様式"]
[]
[]
[null,null,null,"（記号番号）"]
[null,null,null,null,"（日　　付）","年","月","日"]
[]
[]
[]
["公益財団法人東京都スポーツ協会　理事長　様"]
[]
[]
[]
[null,null,null,null,"（地区体育･ｽﾎﾟｰﾂ協会等名）"]
[null,null,null,null,"（代表者役職氏名）",null,null,"印"]
[]
[]
[]
[null,"令和８年度","ジュニア育成地域推進事業（未就学児向け事業）"]
[null,null,"地区体育・スポーツ協会等分担金申請書"]
[]
[]
[{"$f":"\"　\"&B18&\"ジュニア育成地域推進事業地区体育･ｽﾎﾟｰﾂ協会等事業実施要項に基づき、下記のとおり分担金を申請いたします。\"","v":"　令和８年度ジュニア育成地域推進事業地区体育･ｽﾎﾟｰﾂ協会等事業実施要項に基づき、下記のとおり分担金を申請いたします。"}]
[]
[]
[]
["記"]
[]
[]
["　１　分担金申請額　　　　　　金",null,null,{"$f":"'第18号様式　申請事業総括表'!L29","v":0},null,null,"円"]
[]
[]
["　２　添付書類"]
["　　(1)第１８号様式　申請事業総括表　　　　　　　　　　　　　　　　　別添のとおり"]
["　　(2)第１９号様式　事業実施計画書　　　　　　　　　　　　　　　　　別添のとおり"]
["　　(3)第２０号様式　収支予算書　　　　　　　　　　　　　　　　　　　別添のとおり"]
[]
["　３　別途LoGoフォームより提出"]
["　　　第２１号様式 確認書、第２２号様式 公金取扱者設置届出書、個人情報安全管理水準届出　　　　　　　　　　　"]
["　　　（主管団体用誓約書含む）、ガバナンスコードに係るセルフチェックシート"]
[]
["　３　分担金振込先"]
[null,"銀行等名"]
[null,"支店名"]
[null,"口座種別\n（〇をすること）",null,"普通　　　　・　　　　当座"]
[null,"口座番号"]
[null,"フリガナ"]
[null,"口座名義"]
[null,"※銀行名、支店名、口座名義は略さず記載してください。"]
[]
[null,"地区番号","担当者","氏名"]
[null,null,null,"電話番号"]
[null,null,null,"e-mail"]

{"sheet":"第18号様式　申請事業総括表","index":1,"n_rows":29,"n_cols":14,"rows_kept":29,"cut":false,"hidden":false,"merged":[[12,1,12,5],[7,1,7,5],[8,1,8,5],[9,1,9,5],[10,1,10,5],[11,1,11,5],[5,0,6,0],[2,0,2,13],[5,11,5,13],[5,1,6,5],[0,8,0,9],[5,6,5,10],[0,10,0,13],[13,1,13,5],[14,1,14,5],[15,1,15,5],[16,1,16,5],[17,1,17,5],[18,1,18,5],[20,1,20,5],[21,1,21,5],[22,1,22,5],[23,1,23,5],[30,0,30,2],[30,3,30,13],[19,1,19,5],[24,1,24,5],[25,1,25,5],[26,1,26,5],[28,0,28,5],[27,1,27,5]]}
["第18号様式",null,null,null,null,null,null,null,"地区体育･ｽﾎﾟｰﾂ協会等名　"]
[]
[{"$f":"'第17号様式　分担金申請書'!B18&\"ジュニア育成地域推進事業（未就学児向け事業）申請事業総括表\"","v":"令和８年度ジュニア育成地域推進事業（未就学児向け事業）申請事業総括表"}]
[]
[null,null,null,null,null,null,null,null,null,null,null,null,null,"(単位：円）"]
["番号","事業名",null,null,null,null,"事業対象者参加予定人数",null,null,null,null,"予　算"]
[null,null,null,null,null,null,"未就学児","小学生","中学生","高校生","保護者","分担金","負担金・\nその他　計","計"]
[1,null,null,null,null,null,null,null,null,null,null,null,null,{"$f":"SUM(L8:M8)","v":0}]
[2,null,null,null,null,null,null,null,null,null,null,null,null,{"$f":"SUM(L9:M9)","v":0}]
[3,null,null,null,null,null,null,null,null,null,null,null,null,0]
[4,null,null,null,null,null,null,null,null,null,null,null,null,0]
[5,null,null,null,null,null,null,null,null,null,null,null,null,0]
[6,null,null,null,null,null,null,null,null,null,null,null,null,0]
[7,null,null,null,null,null,null,null,null,null,null,null,null,0]
[8,null,null,null,null,null,null,null,null,null,null,null,null,0]
[9,null,null,null,null,null,null,null,null,null,null,null,null,0]
[10,null,null,null,null,null,null,null,null,null,null,null,null,0]
[11,null,null,null,null,null,null,null,null,null,null,null,null,0]
[12,null,null,null,null,null,null,null,null,null,null,null,null,0]
[13,null,null,null,null,null,null,null,null,null,null,null,null,0]
[14,null,null,null,null,null,null,null,null,null,null,null,null,0]
[15,null,null,null,null,null,null,null,null,null,null,null,null,0]
[16,null,null,null,null,null,null,null,null,null,null,null,null,0]
[17,null,null,null,null,null,null,null,null,null,null,null,null,0]
[18,null,null,null,null,null,null,null,null,null,null,null,null,0]
[19,null,null,null,null,null,null,null,null,null,null,null,null,0]
[20,null,null,null,null,null,null,null,null,null,null,null,null,0]
[null,"事務費",null,null,null,null,null,null,null,null,null,null,null,{"$f":"SUM(L28:M28)","v":0}]
["計",null,null,null,null,null,{"$f":"SUM(G8:G28)","v":0},0,0,0,0,0,0,0]

{"sheet":"【参考】第18号様式確認シート","index":2,"n_rows":55,"n_cols":14,"rows_kept":55,"cut":false,"hidden":false,"merged":[[28,0,28,1],[31,0,32,1],[31,2,31,13],[54,0,54,1],[5,2,5,6],[0,0,0,1],[0,2,0,11],[2,7,2,8],[4,11,4,13],[5,0,6,1],[2,9,2,13]]}
["＜参考様式＞",null,{"$f":"'第17号様式　分担金申請書'!B18&\"ジュニア育成地域推進事業（未就学児向け事業）収支予算確認用\"","v":"令和８年度ジュニア育成地域推進事業（未就学児向け事業）収支予算確認用"}]
["※確認用のため提出不要"]
[null,null,null,null,null,null,null,"地区名　："]
[]
[null,null,null,null,null,null,"（単位：円）",null,null,null,null,"＜確認欄＞　　収入-支出"]
["事業名等",null,"収　　　入",null,null,null,null,null,null,null,null,"計","分担金","分担金以外"]
[null,null,"a　分担金","b 負担金","c その他","小計 B(b+c)","C　合計",null,null,null,null,"C-F","A-D","B-E"]
[1,null,null,null,null,{"$f":"SUM(D8:E8)","v":0},{"$f":"SUM(C8:E8)","v":0},null,null,null,null,{"$f":"G8-N34","v":0},{"$f":"C8-L34","v":0},{"$f":"F8-M34","v":0}]
[2,null,null,null,null,{"$f":"SUM(D9:E9)","v":0},0,null,null,null,null,0,0,0]
[3,null,null,null,null,0,0,null,null,null,null,0,0,0]
[4,null,null,null,null,0,0,null,null,null,null,0,0,0]
[5,null,null,null,null,0,0,null,null,null,null,0,0,0]
[6,null,null,null,null,0,0,null,null,null,null,0,0,0]
[7,null,null,null,null,0,0,null,null,null,null,0,0,0]
[8,null,null,null,null,0,0,null,null,null,null,0,0,0]
[9,null,null,null,null,0,0,null,null,null,null,0,0,0]
[10,null,null,null,null,0,0,null,null,null,null,0,0,0]
[11,null,null,null,null,0,0,null,null,null,null,0,0,0]
[12,null,null,null,null,0,0,null,null,null,null,0,0,0]
[13,null,null,null,null,0,0,null,null,null,null,0,0,0]
[14,null,null,null,null,0,0,null,null,null,null,0,0,0]
[15,null,null,null,null,0,0,null,null,null,null,0,0,0]
[16,null,null,null,null,0,0,null,null,null,null,0,0,0]
[17,null,null,null,null,0,0,null,null,null,null,0,0,0]
[18,null,null,null,null,0,0,null,null,null,null,0,0,0]
[19,null,null,null,null,0,0,null,null,null,null,0,0,0]
[20,null,null,null,null,0,0,null,null,null,null,0,0,0]
[null,"事務費",null,null,null,{"$f":"SUM(D28:E28)","v":0},{"$f":"SUM(C28:E28)","v":0},null,null,null,null,{"$f":"G28-N55","v":0},{"$f":"C28-L55","v":0},{"$f":"F28-M55","v":0}]
["計",null,{"$f":"SUM(C8:C28)","v":0},{"$f":"SUM(D8:D28)","v":0},{"$f":"SUM(E8:E28)","v":0},{"$f":"SUM(F8:F28)","v":0},{"$f":"SUM(G8:G28)","v":0},null,null,null,null,{"$f":"SUM(L8:L28)","v":0},{"$f":"SUM(M8:M28)","v":0},{"$f":"SUM(N8:N28)","v":0}]
["　※　網掛け欄には計算式が入っています。",null,null,null,null,null,null,null,null,null,null,{"$f":"IF((COUNTIF($M$29,\"<>0\")),\"分担金の収支が一致しておりません\",\"\")&IF((COUNTIF($N$29,\"<>0\")),\"　分担金外の収支が一致しておりません\",\"\")","v":""}]
[null,null,null,null,null,null,null,null,null,null,null,null,null,"（単位：円）"]
["事業名等",null,"支　　　出"]
[null,null,"謝金等","交通費","宿泊費","印刷製本費","消耗品費","使用料・\n借上料","通信運搬費","保険料","雑役務費","D　小計","E　分担金\n対象外経費","F(D+E)　計"]
[1,{"$f":"B8","v":0},null,null,null,null,null,null,null,null,null,{"$f":"SUM(C34:K34)","v":0},null,{"$f":"SUM(L34:M34)","v":0}]
[2,0,null,null,null,null,null,null,null,null,null,{"$f":"SUM(C35:K35)","v":0},null,{"$f":"SUM(L35:M35)","v":0}]
[3,0,null,null,null,null,null,null,null,null,null,0,null,0]
[4,0,null,null,null,null,null,null,null,null,null,0,null,0]
[5,0,null,null,null,null,null,null,null,null,null,0,null,0]
[6,0,null,null,null,null,null,null,null,null,null,0,null,0]
[7,0,null,null,null,null,null,null,null,null,null,0,null,0]
[8,0,null,null,null,null,null,null,null,null,null,0,null,0]
[9,0,null,null,null,null,null,null,null,null,null,0,null,0]
[10,0,null,null,null,null,null,null,null,null,null,0,null,0]
[11,0,null,null,null,null,null,null,null,null,null,0,null,0]
[12,0,null,null,null,null,null,null,null,null,null,0,null,0]
[13,0,null,null,null,null,null,null,null,null,null,0,null,0]
[14,0,null,null,null,null,null,null,null,null,null,0,null,0]
[15,0,null,null,null,null,null,null,null,null,null,0,null,0]
[16,0,null,null,null,null,null,null,null,null,null,0,null,0]
[17,0,null,null,null,null,null,null,null,null,null,0,null,0]
[18,0,null,null,null,null,null,null,null,null,null,0,null,0]
[19,0,null,null,null,null,null,null,null,null,null,0,null,0]
[20,0,null,null,null,null,null,null,null,null,null,0,null,0]
[null,"事務費",null,null,null,null,null,null,null,null,null,{"$f":"SUM(C54:K54)","v":0},null,{"$f":"SUM(L54:M54)","v":0}]
["計",null,{"$f":"SUM(C34:C54)","v":0},0,0,0,0,0,0,0,0,0,0,0]

{"sheet":"第19号様式　実施計画書","index":3,"n_rows":25,"n_cols":7,"rows_kept":25,"cut":false,"hidden":false,"merged":[[2,7,2,8],[4,0,4,8],[8,5,8,8],[10,2,10,7],[12,2,12,7],[19,1,21,1],[16,2,16,7],[17,2,17,7],[24,2,24,7],[6,5,6,8],[11,2,11,7],[18,2,19,7],[20,2,20,7],[21,2,21,7],[22,2,22,7],[23,2,23,7],[15,2,15,5],[15,6,15,7]]}
["第19号様式"]
[]
[null,null,null,null,null,null,"事業番号"]
[]
["令和８年度ジュニア育成地域推進事業（未就学児向け事業）実施計画書"]
[]
[null,null,null,null,"地区体育･ｽﾎﾟｰﾂ協会等名"]
[]
[null,null,null,null,"主管団体名"]
[]
[null,"事　　項","内　　容"]
[null,"１事業名称"]
[null,"競技名\n（競技事業の時に記入）"]
[null,"新規・再構築","　    新規企画事業　　　  "]
[null,"（1つのみ☑）","　    既存事業を再構築"]
[null,"２実施期間（日時）\n※時間も記入",null,null,null,null,"実施日数　　　日間"]
[null,"３  会                  場"]
[null,"４参加予定数","未就学児　　名、小学生　　名、中学生　名、高校生　名、保護者　　名"]
[null,"５運営予定数　　　　　　　","指導者・講師　 　名（　　　名）"]
[null,"※（　）には謝金支払者数を記入"]
[null,null,"著名指導者・特別講師　　 名（　　 名）、医師・看護師　　 名（　　　名）、"]
[null,null,"補助指導者・補助役員　　　名（　　　名）、委員　　　名（　　 名）"]
[null,"６募集方法"]
[null,"７ 具体的な事業 、内容、事業目的、期待される効果"]
[null,"８備考","その他主催者名（　　　　　　　　）　　→　　経費負担　　□有、□無"]

{"sheet":"第20号様式　収支予算書（事業別）","index":4,"n_rows":50,"n_cols":14,"rows_kept":50,"cut":false,"hidden":false,"merged":[[49,0,50,0],[49,1,50,1],[49,2,50,2],[49,3,50,13],[52,5,55,13],[43,4,43,6],[28,0,33,0],[28,1,33,1],[28,2,33,2],[34,0,35,0],[34,1,35,1],[34,2,35,2],[44,0,48,0],[44,1,48,1],[44,2,48,2],[36,0,37,0],[36,1,37,1],[36,2,37,2],[38,0,39,0],[38,1,39,1],[38,2,39,2],[40,0,42,0],[40,1,42,1],[40,2,42,2],[26,2,27,2],[14,0,19,0],[14,1,19,1],[14,2,19,2],[20,0,23,0],[20,1,23,1],[20,2,23,2],[24,0,25,0],[24,1,25,1],[24,2,25,2],[26,0,27,0],[26,1,27,1],[10,3,10,9],[10,10,10,13],[11,3,11,9],[11,10,11,13],[13,3,13,11],[13,12,13,13],[12,1,12,9],[7,3,7,9],[7,10,7,13],[8,3,8,9],[8,10,8,13],[9,3,9,9],[9,10,9,13],[0,1,0,13],[1,0,1,13],[3,1,3,2],[3,3,3,7],[5,1,5,2],[5,4,5,6],[5,7,5,13],[2,11,2,12]]}
["第20号様式"]
["令和８年度ジュニア育成地域推進事業（未就学児向け事業）収支予算書"]
[null,null,null,null,null,null,null,null,null,"事業番号"]
[null,"事 業 名"]
[]
[null,"地区体育・ｽﾎﾟｰﾂ協会等名",null,null,"主管団体名"]
["＜収入＞"]
["科目","金額",null,"内　　　　容",null,null,null,null,null,null,"備　考"]
["１　分担金",null,"円","東京都分担金"]
["２　負担金",null,"円"]
["３　その他",null,"円"]
["合　　計",{"$f":"SUM(B9:B11)","v":0},"円"]
["＜支出＞",{"$f":"IF(B9-B44<>0,\"分担金の収支が一致しておりません　（\"&ABS(B9-B44)&\"円分）\",IF(B12-B50<>0,\"全体の収支が一致しておりません　（\"&ABS(B12-B50)&\"円分）\",\"\"))","v":""}]
["科目","金額",null,"内　　　　　容",null,null,null,null,null,null,null,null,"計"]
["１　謝金等",{"$f":"SUM(M15:M20)","v":0},"円",null,"@",null,"×",null,null,"×",null,"回",{"$f":"F15*H15*K15","v":0},"円"]
[null,null,null,null,"@",null,"×",null,null,"×",null,"回",0,"円"]
[null,null,null,null,"@",null,"×",null,null,"×",null,"回",0,"円"]
[null,null,null,null,"@",null,"×",null,null,"×",null,"回",0,"円"]
[null,null,null,null,"@",null,"×",null,null,"×",null,"回",0,"円"]
[null,null,null,null,"@",null,"×",null,null,"×",null,"回",0,"円"]
["２　交通費",{"$f":"SUM(M21:M24)","v":0},"円",null,"@",null,"×",null,null,"×",null,"回",0,"円"]
[null,null,null,null,"@",null,"×",null,null,"×",null,"回",0,"円"]
[null,null,null,null,"@",null,"×",null,null,"×",null,"回",0,"円"]
[null,null,null,null,"@",null,"×",null,null,"×",null,"回",0,"円"]
["３　宿泊費",{"$f":"SUM(M25:M26)","v":0},"円",null,"@",null,"×",null,null,"×",null,"回",{"$f":"F25*H25*K25","v":0},"円"]
[null,null,null,null,"@",null,"×",null,null,"×",null,"回",{"$f":"F26*H26*K26","v":0},"円"]
["４　印刷製本費",{"$f":"SUM(M27:M28)","v":0},"円",null,"@",null,"×",null,null,"×",null,"回",0,"円"]
[null,null,null,null,"@",null,"×",null,null,"×",null,"回",0,"円"]
["５　消耗品費",{"$f":"SUM(M29:M34)","v":0},"円",null,"@",null,"×",null,null,"×",null,"回",0,"円"]
[null,null,null,null,"@",null,"×",null,null,"×",null,"回",0,"円"]
[null,null,null,null,"@",null,"×",null,null,"×",null,"回",{"$f":"F31*H31*K31","v":0},"円"]
[null,null,null,null,"@",null,"×",null,null,"×",null,"回",{"$f":"F32*H32*K32","v":0},"円"]
[null,null,null,null,"@",null,"×",null,null,"×",null,"回",0,"円"]
[null,null,null,null,"@",null,"×",null,null,"×",null,"回",0,"円"]
["６　使用料・借上料",{"$f":"SUM(M35:M36)","v":0},"円",null,"@",null,"×",null,null,"×",null,"回",0,"円"]
[null,null,null,null,"@",null,"×",null,null,"×",null,"回",0,"円"]
["７　通信運搬費",{"$f":"SUM(M37:M38)","v":0},"円",null,"@",null,"×",null,null,"×",null,"回",0,"円"]
[null,null,null,null,"@",null,"×",null,null,"×",null,"回",0,"円"]
["８　保険料",{"$f":"SUM(M39:M40)","v":0},"円",null,"@",null,"×",null,null,"×",null,"回",0,"円"]
[null,null,null,null,"@",null,"×",null,null,"×",null,"回",0,"円"]
["９　雑役務費",{"$f":"SUM(M41:M43)","v":0},"円",null,"@",null,"×",null,null,"×",null,"回",0,"円"]
[null,null,null,null,"@",null,"×",null,null,"×",null,"回",0,"円"]
[null,null,null,null,"@",null,"×",null,null,"×",null,"回",0,"円"]
["分担金支出　計",{"$f":"SUM(B15:B43)","v":0},"円"]
["10　分担金以外で支出するもの",{"$f":"SUM(M45:M49)","v":0},"円",null,"@",null,"×",null,null,"×",null,"回",{"$f":"F45*H45*K45","v":0},"円"]
[null,null,null,null,"@",null,"×",null,null,"×",null,"回",{"$f":"F46*H46*K46","v":0},"円"]
[null,null,null,null,"@",null,"×",null,null,"×",null,"回",{"$f":"F47*H47*K47","v":0},"円"]
[null,null,null,null,"@",null,"×",null,null,"×",null,"回",{"$f":"F48*H48*K48","v":0},"円"]
[null,null,null,null,"@",null,"×",null,null,"×",null,"回",{"$f":"F49*H49*K49","v":0},"円"]
["合　　計",{"$f":"B45+B44","v":0},"円"]

{"sheet":"第20号様式【記入例】","index":5,"n_rows":50,"n_cols":14,"rows_kept":50,"cut":false,"hidden":false,"merged":[[20,2,23,2],[24,2,25,2],[55,1,55,3],[26,2,27,2],[28,2,33,2],[34,2,35,2],[36,2,37,2],[38,2,39,2],[56,1,56,3],[56,4,56,5],[56,7,56,8],[56,10,56,11],[40,2,42,2],[54,1,54,3],[54,4,54,5],[54,7,54,8],[54,10,54,11],[55,4,55,5],[55,7,55,8],[55,10,55,11],[43,4,43,6],[49,0,50,0],[49,1,50,1],[49,2,50,2],[49,3,50,13],[44,0,48,0],[44,1,48,1],[44,2,48,2],[38,0,39,0],[38,1,39,1],[40,0,42,0],[40,1,42,1],[20,0,23,0],[20,1,23,1],[24,0,25,0],[24,1,25,1],[26,0,27,0],[26,1,27,1],[28,0,33,0],[28,1,33,1],[34,0,35,0],[34,1,35,1],[36,0,37,0],[36,1,37,1],[7,3,7,9],[7,10,7,13],[13,3,13,11],[13,12,13,13],[14,0,19,0],[14,1,19,1],[14,2,19,2],[0,1,0,13],[3,1,3,2],[3,3,3,7],[5,1,5,2],[5,4,5,6],[5,7,5,13],[1,0,1,13]]}
["第20号様式"]
["令和○年度ジュニア育成地域推進事業（未就学児向け事業）収支予算書　【記入例】"]
[null,null,null,null,null,null,null,null,null,"事業番号"]
[null,"事業名",null,"〇〇教室"]
[]
[null,"地区体育・ｽﾎﾟｰﾂ協会等名",null,"〇〇スポーツ協会","主管団体名",null,null,"〇〇連盟"]
["＜収入＞"]
["科目","金額",null,"内　　　　容",null,null,null,null,null,null,"備　考"]
["1　　分　担　金",104750,"円","東京都分担金"]
["2　　負　担　金",10000,"円","〇〇体育協会負担"]
["3　　そ　の　他",null,"円"]
["合　　　計",{"$f":"SUM(B9:B11)","v":114750},"円"]
["＜支出＞"]
["科目","金額",null,"内　　　　　容",null,null,null,null,null,null,null,null,"計"]
["１　謝金等",{"$f":"SUM(M15:M20)","v":56000},"円","指導者謝礼　※科目10有","@",10000,"×",1,"人","×",3,"回",20000,"円"]
[null,null,null,"補助指導者謝礼","@",6000,"×",2,"人","×",3,"回",{"$f":"F16*H16*K16","v":36000},"円"]
[null,null,null,null,"@",null,"×",null,null,"×",null,"回",{"$f":"F17*H17*K17","v":0},"円"]
[null,null,null,null,"@",null,"×",null,null,"×",null,"回",0,"円"]
[null,null,null,null,"@",null,"×",null,null,"×",null,"回",0,"円"]
[null,null,null,null,"@",null,"×",null,null,"×",null,"回",0,"円"]
["２　交通費",{"$f":"SUM(M21:M24)","v":0},"円",null,"@",null,"×",null,null,"×",null,"回",0,"円"]
[null,null,null,null,"@",null,"×",null,null,"×",null,"回",0,"円"]
[null,null,null,null,"@",null,"×",null,null,"×",null,"回",0,"円"]
[null,null,null,null,"@",null,"×",null,null,"×",null,"回",0,"円"]
["３　宿泊費",{"$f":"SUM(M25:M26)","v":0},"円",null,"@",null,"×",null,null,"×",null,"回",{"$f":"F25*H25*K25","v":0},"円"]
[null,null,null,null,"@",null,"×",null,null,"×",null,"回",{"$f":"F26*H26*K26","v":0},"円"]
["４　印刷製本費",{"$f":"SUM(M27:M28)","v":0},"円",null,"@",null,"×",null,null,"×",null,"回",0,"円"]
[null,null,null,null,"@",null,"×",null,null,"×",null,"回",0,"円"]
["５　消耗品費",{"$f":"SUM(M29:M34)","v":11700},"円","医薬品","@",1700,"×",1,null,"×",1,"回",1700,"円"]
[null,null,null,"熱中症予防飲料","@",200,"×",5,"本","×",10,"回",10000,"円"]
[null,null,null,null,"@",null,"×",null,null,"×",null,"回",{"$f":"F31*H31*K31","v":0},"円"]
[null,null,null,null,"@",null,"×",null,null,"×",null,"回",{"$f":"F32*H32*K32","v":0},"円"]
[null,null,null,null,"@",null,"×",null,null,"×",null,"回",0,"円"]
[null,null,null,null,"@",null,"×",null,null,"×",null,"回",0,"円"]
["６使用料・借上料",{"$f":"SUM(M35:M36)","v":10000},"円","会場使用料","@",1000,"×",1,null,"×",10,"回",10000,"円"]
[null,null,null,null,"@",null,"×",null,null,"×",null,"回",0,"円"]
["７　通信運搬費",{"$f":"SUM(M37:M38)","v":550},"円","指導者連絡用切手","@",110,"×",5,"枚","×",1,"回",550,"円"]
[null,null,null,null,"@",null,"×",null,null,"×",null,"回",0,"円"]
["８　保険料",{"$f":"SUM(M39:M40)","v":26500},"円","保険料","@",500,"×",53,"人","×",1,"回",{"$f":"F39*H39*K39","v":26500},"円"]
[null,null,null,null,"@",null,"×",null,null,"×",null,"回",{"$f":"F40*H40*K40","v":0},"円"]
["９　雑役務費",{"$f":"SUM(M41:M43)","v":0},"円",null,"@",null,"×",null,null,"×",null,"回",{"$f":"F41*H41*K41","v":0},"円"]
[null,null,null,null,"@",null,"×",null,null,"×",null,"回",{"$f":"F42*H42*K42","v":0},"円"]
[null,null,null,null,"@",null,"×",null,null,"×",null,"回",{"$f":"F43*H43*K43","v":0},"円"]
["分担金支出計",{"$f":"SUM(B15:B43)","v":104750},"円"]
["10 分担金以外で支出するもの",{"$f":"SUM(M45:M49)","v":10000},"円","指導者謝礼　※科目1有","@",10000,"×",1,"人","×",3,"回",10000,"円"]
[null,null,null,null,"@",null,"×",null,null,"×",null,"回",{"$f":"F46*H46*K46","v":0},"円"]
[null,null,null,null,"@",null,"×",null,null,"×",null,"回",{"$f":"F47*H47*K47","v":0},"円"]
[null,null,null,null,"@",null,"×",null,null,"×",null,"回",{"$f":"F48*H48*K48","v":0},"円"]
[null,null,null,null,"@",null,"×",null,null,"×",null,"回",{"$f":"F49*H49*K49","v":0},"円"]
["合計　",{"$f":"B45+B44","v":114750},"円"]

{"sheet":"第23号様式　【特別】分担金申請書 ","index":6,"n_rows":49,"n_cols":8,"rows_kept":49,"cut":false,"hidden":false,"merged":[[46,2,48,2],[46,4,46,6],[47,4,47,6],[48,4,48,6],[43,1,43,2],[43,3,43,6],[44,1,44,6],[47,1,48,1],[28,3,28,5],[3,3,3,4],[3,5,3,7],[12,5,12,7],[21,0,22,7],[25,0,25,7],[17,0,17,7],[40,1,40,2],[40,3,40,6],[42,1,42,2],[42,3,42,6],[34,0,34,7],[37,0,37,7],[38,1,38,2],[38,3,38,6],[39,1,39,2],[39,3,39,6],[41,1,41,2],[41,3,41,6]]}
["第23号様式"]
[]
[]
[null,null,null,"（記号番号）"]
[null,null,null,null,"（日　　付）","年","月","日"]
[]
[]
[]
["公益財団法人東京都スポーツ協会　理事長　様"]
[]
[]
[]
[null,null,null,null,"（地区体育･ｽﾎﾟｰﾂ協会等名）"]
[null,null,null,null,"（代表者役職氏名）",null,null,"印"]
[]
[]
[]
[{"$f":"'第17号様式　分担金申請書'!B18&'第17号様式　分担金申請書'!C18","v":"令和８年度ジュニア育成地域推進事業（未就学児向け事業）"}]
[null,"　　　地区体育・スポーツ協会等分担金特別申請書"]
[]
[]
[{"$f":"\"　\"&B18&\"ジュニア育成地域推進事業地区体育協会等事業実施要項に基づき、下記のとおり分担金を申請いたします。\"","v":"　ジュニア育成地域推進事業地区体育協会等事業実施要項に基づき、下記のとおり分担金を申請いたします。"}]
[]
[]
[]
["記"]
[]
[]
["　１　分担金申請額　　　　　　金",null,null,{"$f":"'第24様式　【特別】総括表'!E16","v":0},null,null,"円"]
[]
[]
["　２　添付書類"]
["　　(1)第２４号様式  　分担金特別申請事業総括表　　　　　　　　　　　別添のとおり"]
["　　(2)第２５号様式　  事業実施計画書　　　　　　　　　　　　　　　　別添のとおり"]
["　　(3)第２６号様式　　収支予算書　　　　　　　　　　　　　　　  　　別添のとおり"]
[]
[]
["　３　分担金振込先"]
[null,"銀行等名"]
[null,"支店名"]
[null,"口座種別\n（〇をすること）",null,"普通　　　　・　　　　当座"]
[null,"口座番号"]
[null,"フリガナ"]
[null,"口座名義"]
[null,"※銀行名、支店名、口座名義は略さず記載してください。"]
[]
[null,"地区番号","担当者","氏名"]
[null,null,null,"電話番号"]
[null,null,null,"e-mail"]

{"sheet":"第24様式　【特別】総括表","index":7,"n_rows":31,"n_cols":6,"rows_kept":31,"cut":false,"hidden":false,"merged":[[24,0,24,5],[25,0,25,5],[26,0,26,5],[4,0,5,5],[7,4,7,5],[15,0,15,3],[20,0,20,5],[21,0,21,5],[22,0,22,5]]}
[]
[]
["第24号様式"]
[]
["令和８年度ジュニア育成地域推進事業（未就学児向け事業）分担金の特別申請事業　総括表"]
[]
[]
[null,null,null,"地区体育･ｽﾎﾟｰﾂ協会名　"]
[]
["優先\n順位\n※１","事業番号※２","申請区分　※３","事　業　名","分担金の\n特別申請額","備　考"]
[1]
[2]
[3]
[4]
[5]
["計",null,null,null,{"$f":"SUM(E11:E15)","v":0}]
[]
[" ※１　事業は１から希望優先順に記入してください。"]
[" ※２　既に申請済の事業はその事業番号を、新たに追加した事業は当初申請の続きの事業番号をご入力ください。"]
[" ※３　申請区分欄は次のいずれかから選んでください。"]
["　　　① 追加実施事業\n　　　　分担金が不足し実施できない事業（４月当初、未申請事業）\n　　　　（分担金が増額されれば実施可能となる事業）"]
["　　　② 事業規模拡大事業\n　　　　分担金申請している事業で、事業規模を拡大する事業\n　　　  （分担金申請中の事業で、分担金が増額されれば事業回数や事業対象者数を増やすことができる事業）"]
["　　　③ 負担金等を減額する事業\n　　　　分担金申請している事業で、分担金対象となる経費を地区体協負担金等で支出する予定の事業\n　　　  （分担金申請中の負担金や参加費の充当を予定している事業で、分担金が増額されれば負担金や参加費を\n         減額できる事業）"]
[]
[]
[]
[]
[]
[null,null,"①追加実施"]
[null,null,"②規模拡大"]
[null,null,"③負担金等減額"]

{"sheet":"第25号様式　実施計画書","index":8,"n_rows":26,"n_cols":8,"rows_kept":26,"cut":false,"hidden":false,"merged":[[25,2,25,7],[1,7,2,8],[19,2,20,7],[20,1,22,1],[21,2,21,7],[22,2,22,7],[23,2,23,7],[24,2,24,7],[14,2,14,7],[16,2,16,7],[17,1,18,1],[15,6,15,7],[15,2,15,5],[13,2,13,7],[4,0,4,8],[6,5,6,8],[18,4,18,5],[18,6,18,7],[17,2,17,3],[18,2,18,3],[8,5,8,8],[10,2,10,7],[11,2,11,7],[12,2,12,7],[17,4,17,5],[17,6,17,7]]}
["第25号様式"]
[null,null,null,null,null,null,"　","　　-（　　）"]
[null,null,null,null,null,null,"事業番号"]
[]
["令和８年度ジュニア育成地域推進事業（未就学児向け事業）実施計画書（特別申請用）"]
[]
[null,null,null,null,"地区体育･ｽﾎﾟｰﾂ協会等名"]
[]
[null,null,null,null,"主管団体名"]
[]
[null,"事　項","内　容"]
[null,"１事業名称"]
[null,"競技名\n（競技事業の時に記入）"]
[null,"新規・継続","　    新規企画事業　　　 "]
[null,"（1つのみ☑）","      既存事業を再構築　   "]
[null,"２実施期間（日時）\n※時間も記入",null,null,null,null,"実施日数　　日間"]
[null,"３   会                 場"]
[null,"４   参  加  予  定  数","未就学児　　　　　名",null,"小学生　　　　　　名"]
[null,null,"中学生　　　　　　名",null,"高校生　　　　　　名",null,"保護者　　　　　　名"]
[null,"５運営予定数　　　　　　　","指導者・講師　　 　名（　　 　名）、"]
[null,"※（　）には謝金支払者数を記入"]
[null,null,"著名指導者・特別講師　　　 名（　　　 名）、医師・看護師　　　 名（　　 　名）、"]
[null,null,"補助指導者・補助役員　　　　名（　　　　名）、委員　　　　名（　　　　名）"]
[null,"６募集方法"]
[null,"７ 具体的な事業 、内容、事業目的、期待される効果"]
[null,"８備考","その他主催者名（　　　　　　　　）　　→　　経費負担　　□有、□無"]

{"sheet":"第26号様式　【特別】収支予算書（事業別）","index":9,"n_rows":80,"n_cols":14,"rows_kept":80,"cut":false,"hidden":false,"merged":[[44,4,44,6],[59,1,59,3],[59,4,59,5],[59,7,59,8],[50,3,51,13],[59,10,59,11],[52,0,52,13],[58,1,58,3],[58,4,58,5],[58,7,58,8],[58,10,58,11],[57,1,57,3],[57,4,57,5],[57,7,57,8],[57,10,57,11],[45,0,49,0],[45,1,49,1],[45,2,49,2],[50,0,51,0],[50,1,51,1],[50,2,51,2],[39,0,40,0],[39,1,40,1],[41,0,43,0],[21,0,24,0],[21,1,24,1],[25,0,26,0],[25,1,26,1],[27,0,28,0],[27,1,28,1],[29,0,34,0],[29,1,34,1],[35,0,36,0],[35,1,36,1],[37,0,38,0],[37,1,38,1],[41,1,43,1],[7,3,7,9],[7,10,7,13],[14,3,14,11],[14,12,14,13],[15,0,20,0],[15,1,20,1],[0,1,0,13],[1,0,1,13],[3,1,3,2],[3,3,3,7],[5,1,5,2],[5,4,5,6],[5,7,5,13]]}
["第26号様式"]
["令和８年度ジュニア育成地域推進事業（未就学児向け事業）収支予算書（特別申請用）"]
["（特）",null,null,null,null,null,null,null,null,"優先順位"]
[null,"事業名"]
[]
[null,"地区体育･ｽﾎﾟｰﾂ協会等名",null,null,"主管団体名"]
["＜収入＞"]
["科目","金額",null,"内　　　　容",null,null,null,null,null,null,"備　考"]
["１　特別申請分担金",null,"円","東京都分担金（特別申請で希望する額）"]
["２　　分　担　金",null,"円","東京都分担金（第4号様式で申請した額）"]
["３　　負　担　金",null,"円"]
["４　　そ　の　他",null,"円"]
["合　　　計",{"$f":"SUM(B9:B12)","v":0},"円"]
["＜支出＞"]
["科目","金額","☆","内　　　　　容",null,null,null,null,null,null,null,null,"計"]
["１　謝金等",{"$f":"SUM(M16:M21)","v":0},null,null,"@",null,"×",null,null,"×",null,"回",{"$f":"F16*H16*K16","v":0},"円"]
[null,null,null,null,"@",null,"×",null,null,"×",null,"回",0,"円"]
[null,null,null,null,"@",null,"×",null,null,"×",null,"回",0,"円"]
[null,null,null,null,"@",null,"×",null,null,"×",null,"回",0,"円"]
[null,null,null,null,"@",null,"×",null,null,"×",null,"回",0,"円"]
[null,null,null,null,"@",null,"×",null,null,"×",null,"回",0,"円"]
["２　交通費",{"$f":"SUM(M22:M25)","v":0},null,null,"@",null,"×",null,null,"×",null,"回",0,"円"]
[null,null,null,null,"@",null,"×",null,null,"×",null,"回",0,"円"]
[null,null,null,null,"@",null,"×",null,null,"×",null,"回",0,"円"]
[null,null,null,null,"@",null,"×",null,null,"×",null,"回",0,"円"]
["３　宿泊費",{"$f":"SUM(M26:M27)","v":0},null,null,"@",null,"×",null,null,"×",null,"回",{"$f":"F26*H26*K26","v":0},"円"]
[null,null,null,null,"@",null,"×",null,null,"×",null,"回",{"$f":"F27*H27*K27","v":0},"円"]
["４　印刷製本費",{"$f":"SUM(M28:M29)","v":0},null,null,"@",null,"×",null,null,"×",null,"回",0,"円"]
[null,null,null,null,"@",null,"×",null,null,"×",null,"回",0,"円"]
["５　消耗品費",{"$f":"SUM(M30:M35)","v":0},null,null,"@",null,"×",null,null,"×",null,"回",0,"円"]
[null,null,null,null,"@",null,"×",null,null,"×",null,"回",0,"円"]
[null,null,null,null,"@",null,"×",null,null,"×",null,"回",{"$f":"F32*H32*K32","v":0},"円"]
[null,null,null,null,"@",null,"×",null,null,"×",null,"回",{"$f":"F33*H33*K33","v":0},"円"]
[null,null,null,null,"@",null,"×",null,null,"×",null,"回",0,"円"]
[null,null,null,null,"@",null,"×",null,null,"×",null,"回",0,"円"]
["６　使用料・借上料",{"$f":"SUM(M36:M37)","v":0},null,null,"@",null,"×",null,null,"×",null,"回",0,"円"]
[null,null,null,null,"@",null,"×",null,null,"×",null,"回",0,"円"]
["７　通信運搬費",{"$f":"SUM(M38:M39)","v":0},null,null,"@",null,"×",null,null,"×",null,"回",0,"円"]
[null,null,null,null,"@",null,"×",null,null,"×",null,"回",0,"円"]
["８　保険料",{"$f":"SUM(M40:M41)","v":0},null,null,"@",null,"×",null,null,"×",null,"回",{"$f":"F40*H40*K40","v":0},"円"]
[null,null,null,null,"@",null,"×",null,null,"×",null,"回",{"$f":"F41*H41*K41","v":0},"円"]
["９　雑役務費",{"$f":"SUM(M42:M44)","v":0},null,null,"@",null,"×",null,null,"×",null,"回",{"$f":"F42*H42*K42","v":0},"円"]
[null,null,null,null,"@",null,"×",null,null,"×",null,"回",{"$f":"F43*H43*K43","v":0},"円"]
[null,null,null,null,"@",null,"×",null,null,"×",null,"回",{"$f":"F44*H44*K44","v":0},"円"]
["分担金支出計",{"$f":"SUM(B16:B44)","v":0},null,"＜☆項特別申請額計＞　",{"$f":"SUMIF(C16:C44,\"☆\",M16:M44)","v":0}]
["10　分担金以外で支出するもの",{"$f":"SUM(M46:M50)","v":0},"円",null,"@",null,"×",null,null,"×",null,"回",{"$f":"F46*H46*K46","v":0},"円"]
[null,null,null,null,"@",null,"×",null,null,"×",null,"回",{"$f":"F47*H47*K47","v":0},"円"]
[null,null,null,null,"@",null,"×",null,null,"×",null,"回",{"$f":"F48*H48*K48","v":0},"円"]
[null,null,null,null,"@",null,"×",null,null,"×",null,"回",{"$f":"F49*H49*K49","v":0},"円"]
[null,null,null,null,"@",null,"×",null,null,"×",null,"回",{"$f":"F50*H50*K50","v":0},"円"]
["合　　　計",{"$f":"B46+B45","v":0},"円"]
[]
["※「分担金申請済み事業」の場合は、科目10「分担金以外で支出するもの」から科目１～９「分担金で支出するもの」に変更した項目の前に「☆」印を付けること。"]
[]
[]
[]
[]
["確認","収入「科目１」＝支出「☆項目計」",null,null,{"$f":"B9","v":0},null,"－",{"$f":"E45","v":0},null,"＝",{"$f":"E58-H58","v":0}]
[null,"収入「科目１」＋「科目２」＝支出「小計」",null,null,{"$f":"B9+B10","v":0},null,"－",{"$f":"B45","v":0},null,"＝",{"$f":"E59-H59","v":0}]
[null,"収入「合計」＝支出「合計｝",null,null,{"$f":"B13","v":0},null,"－",{"$f":"B51","v":0},null,"＝",{"$f":"E60-H60","v":0}]
[]
[]
[]
[]
[]
[]
[]
[]
[]
[]
[]
[]
[]
[]
[]
[]
[]
[]
[]
[null,null,"☆"]

{"sheet":"第26号様式【記入例】","index":10,"n_rows":80,"n_cols":14,"rows_kept":80,"cut":false,"hidden":false,"merged":[[44,4,44,6],[59,1,59,3],[59,4,59,5],[59,7,59,8],[50,3,51,13],[59,10,59,11],[52,0,52,13],[58,1,58,3],[58,4,58,5],[58,7,58,8],[58,10,58,11],[57,1,57,3],[57,4,57,5],[57,7,57,8],[57,10,57,11],[45,0,49,0],[45,1,49,1],[45,2,49,2],[50,0,51,0],[50,1,51,1],[50,2,51,2],[39,0,40,0],[39,1,40,1],[41,0,43,0],[21,0,24,0],[21,1,24,1],[25,0,26,0],[25,1,26,1],[27,0,28,0],[27,1,28,1],[29,0,34,0],[29,1,34,1],[35,0,36,0],[35,1,36,1],[37,0,38,0],[37,1,38,1],[41,1,43,1],[7,3,7,9],[7,10,7,13],[14,3,14,11],[14,12,14,13],[15,0,20,0],[15,1,20,1],[0,1,0,13],[3,1,3,2],[3,3,3,7],[5,1,5,2],[5,4,5,6],[5,7,5,13]]}
["第26号様式","令和○年度ジュニア育成地域推進事業（未就学児向け事業）　収支予算書（特別申請用）【記入例）】"]
[]
["（特）",null,null,null,null,null,null,null,null,"優先順位"]
[null,"事業名",null,"〇〇教室"]
[]
[null,"地区体育･ｽﾎﾟｰﾂ協会等名",null,"〇〇スポーツ協会","主管団体名",null,null,"〇〇連盟"]
["＜収入＞"]
["科目","金額",null,"内　　　　容",null,null,null,null,null,null,"備　考"]
["１　特別申請分担金",10000,"円","東京都分担金（特別申請で希望する額）"]
["２　　分　担　金",104750,"円","東京都分担金（第20号様式で申請した額）"]
["３　　負　担　金",null,"円"]
["４　　そ　の　他",null,"円"]
["合　　　計",{"$f":"SUM(B9:B12)","v":114750},"円"]
["＜支出＞"]
["科目","金額","☆","内　　　　　容",null,null,null,null,null,null,null,null,"計"]
["１　謝金等",{"$f":"SUM(M16:M21)","v":66000},null,"指導者謝礼　","@",10000,"×",1,"人","×",3,"回",20000,"円"]
[null,null,"☆","指導者謝礼　","@",10000,"×",1,"人","×",3,"回",10000,"円"]
[null,null,null,"補助指導者謝礼","@",6000,"×",2,"人","×",3,"回",{"$f":"F18*H18*K18","v":36000},"円"]
[null,null,null,null,"@",null,"×",null,null,"×",null,"回",{"$f":"F19*H19*K19","v":0},"円"]
[null,null,null,null,"@",null,"×",null,null,"×",null,"回",0,"円"]
[null,null,null,null,"@",null,"×",null,null,"×",null,"回",0,"円"]
["２　交通費",{"$f":"SUM(M22:M25)","v":0},null,null,"@",null,"×",null,null,"×",null,"回",0,"円"]
[null,null,null,null,"@",null,"×",null,null,"×",null,"回",0,"円"]
[null,null,null,null,"@",null,"×",null,null,"×",null,"回",0,"円"]
[null,null,null,null,"@",null,"×",null,null,"×",null,"回",0,"円"]
["３　宿泊費",{"$f":"SUM(M26:M27)","v":0},null,null,"@",null,"×",null,null,"×",null,"回",{"$f":"F26*H26*K26","v":0},"円"]
[null,null,null,null,"@",null,"×",null,null,"×",null,"回",{"$f":"F27*H27*K27","v":0},"円"]
["４　印刷製本費",{"$f":"SUM(M28:M29)","v":0},null,null,"@",null,"×",null,null,"×",null,"回",0,"円"]
[null,null,null,null,"@",null,"×",null,null,"×",null,"回",0,"円"]
["５　消耗品費",{"$f":"SUM(M30:M35)","v":11700},null,"医薬品","@",1700,"×",1,null,"×",1,"回",1700,"円"]
[null,null,null,"熱中症予防飲料","@",200,"×",5,"本","×",10,"回",10000,"円"]
[null,null,null,null,"@",null,"×",null,null,"×",null,"回",{"$f":"F32*H32*K32","v":0},"円"]
[null,null,null,null,"@",null,"×",null,null,"×",null,"回",{"$f":"F33*H33*K33","v":0},"円"]
[null,null,null,null,"@",null,"×",null,null,"×",null,"回",0,"円"]
[null,null,null,null,"@",null,"×",null,null,"×",null,"回",0,"円"]
["６使用料・借上料",{"$f":"SUM(M36:M37)","v":10000},null,"会場使用料","@",1000,"×",1,null,"×",10,"回",10000,"円"]
[null,null,null,null,"@",null,"×",null,null,"×",null,"回",0,"円"]
["７　通信運搬費",{"$f":"SUM(M38:M39)","v":550},null,"指導者連絡用切手","@",110,"×",5,"枚","×",1,"回",550,"円"]
[null,null,null,null,"@",null,"×",null,null,"×",null,"回",0,"円"]
["８　保険料",{"$f":"SUM(M40:M41)","v":26500},null,"保険料","@",500,"×",53,"人","×",1,"回",{"$f":"F40*H40*K40","v":26500},"円"]
[null,null,"☆",null,"@",null,"×",null,null,"×",null,"回",{"$f":"F41*H41*K41","v":0},"円"]
["９　雑役務費",{"$f":"SUM(M42:M44)","v":0},null,null,"@",null,"×",null,null,"×",null,"回",{"$f":"F42*H42*K42","v":0},"円"]
[null,null,null,null,"@",null,"×",null,null,"×",null,"回",{"$f":"F43*H43*K43","v":0},"円"]
[null,null,null,null,"@",null,"×",null,null,"×",null,"回",{"$f":"F44*H44*K44","v":0},"円"]
["分担金支出計",{"$f":"SUM(B16:B44)","v":114750},null,"＜☆項特別申請額計＞　",{"$f":"SUMIF(C16:C44,\"☆\",M16:M44)","v":10000}]
["10 分担金以外で支出するもの",{"$f":"SUM(M46:M50)","v":0},"円",null,"@",null,"×",null,null,"×",null,"回",{"$f":"F46*H46*K46","v":0},"円"]
[null,null,null,null,"@",null,"×",null,null,"×",null,"回",{"$f":"F47*H47*K47","v":0},"円"]
[null,null,null,null,"@",null,"×",null,null,"×",null,"回",{"$f":"F48*H48*K48","v":0},"円"]
[null,null,null,null,"@",null,"×",null,null,"×",null,"回",{"$f":"F49*H49*K49","v":0},"円"]
[null,null,null,null,"@",null,"×",null,null,"×",null,"回",{"$f":"F50*H50*K50","v":0},"円"]
["合計",{"$f":"B46+B45","v":114750},"円"]
[]
["※「分担金申請済み事業」の場合は、既に作成済みの第4号様式の内容から、科目10「分担金以外で支出するもの」から科目１～９「分担金で支出するもの」に変更した項目の前に「☆」印を付けること。"]
[]
[]
[]
[]
["確認","収入「科目１」＝支出「☆項目計」",null,null,{"$f":"B9","v":10000},null,"－",{"$f":"E45","v":10000},null,"＝",{"$f":"E58-H58","v":0}]
[null,"収入「科目１」＋「科目２」＝支出「小計」",null,null,{"$f":"B9+B10","v":114750},null,"－",{"$f":"B45","v":114750},null,"＝",{"$f":"E59-H59","v":0}]
[null,"収入「合計」＝支出「合計｝",null,null,{"$f":"B13","v":114750},null,"－",{"$f":"B51","v":114750},null,"＝",{"$f":"E60-H60","v":0}]
[]
[]
[]
[]
[]
[]
[]
[]
[]
[]
[]
[]
[]
[]
[]
[]
[]
[]
[]
[null,null,"☆"]